View In:
ArcGIS JavaScript
ArcGIS Online Map Viewer
ArcGIS Earth
Service Description: Orthophoto 2018 01 31
Name: micmarly/ORTHO_20180131
Description: Orthophoto 2018 01 31
Single Fused Map Cache: false
Extent:
XMin: 795094.636449288
YMin: 5905111.301424345
XMax: 796843.8114492879
YMax: 5906106.478924345
Spatial Reference: 102100
(3857)
LatestVCSWkid(0)
Initial Extent:
XMin: 795094.636449288
YMin: 5905111.301424345
XMax: 796843.8114492879
YMax: 5906106.478924345
Spatial Reference: 102100
(3857)
LatestVCSWkid(0)
Full Extent:
XMin: 795094.636449288
YMin: 5905111.301424345
XMax: 796843.8114492879
YMax: 5906106.478924345
Spatial Reference: 102100
(3857)
LatestVCSWkid(0)
Pixel Size X: 0.01549999999999938
Pixel Size Y: 0.015500000000003481
Band Count: 3
Pixel Type: U8
RasterFunction Infos: {"rasterFunctionInfos": [{
"name": "None",
"description": "",
"help": ""
}]}
Mensuration Capabilities: Basic
Inspection Capabilities:
Has Histograms: true
Has Colormap: false
Has Multi Dimensions : false
Rendering Rule:
Min Scale: 0
Max Scale: 0
Copyright Text: sittel consulting sa
Service Data Type: esriImageServiceDataTypeRGB
Min Values: 0, 0, 0
Max Values: 255, 255, 255
Mean Values: 73.01354047407888, 72.66137630633285, 69.82172564641131
Standard Deviation Values: 72.41091402847704, 71.1812516565156, 69.44099785382019
Object ID Field:
Fields:
None
Default Mosaic Method: Center
Allowed Mosaic Methods:
SortField:
SortValue: null
Mosaic Operator: First
Default Compression Quality: 75
Default Resampling Method: Bilinear
Max Record Count: null
Max Image Height: 4100
Max Image Width: 15000
Max Download Image Count: null
Max Mosaic Image Count: null
Allow Raster Function: true
Allow Copy: true
Allow Analysis: true
Allow Compute TiePoints: false
Supports Statistics: false
Supports Advanced Queries: false
Use StandardizedQueries: true
Raster Type Infos:
Name: Raster Dataset
Description: Supports all ArcGIS Raster Datasets
Help:
Has Raster Attribute Table: false
Edit Fields Info: null
Ownership Based AccessControl For Rasters: null
Child Resources:
Info
Histograms
Statistics
Key Properties
Legend
Raster Function Infos
Supported Operations:
Export Image
Identify
Measure
Compute Histograms
Compute Statistics Histograms
Get Samples
Compute Class Statistics
Query Boundary
Compute Pixel Location
Compute Angles
Validate
Project