View In:
ArcGIS JavaScript
ArcGIS Online Map Viewer
ArcGIS Earth
Service Description: Orthophoto micmarly 13 05 2022
Name: micmarly/orthophoto_20220513_p
Description: Orthophoto micmarly 13 05 2022
Single Fused Map Cache: false
Extent:
XMin: 794978.1011163937
YMin: 5904947.680209657
XMax: 796924.9922221983
YMax: 5906201.2602777835
Spatial Reference: 102100
(3857)
LatestVCSWkid(0)
Initial Extent:
XMin: 794978.1011163937
YMin: 5904947.680209657
XMax: 796924.9922221983
YMax: 5906201.2602777835
Spatial Reference: 102100
(3857)
LatestVCSWkid(0)
Full Extent:
XMin: 794978.1011163937
YMin: 5904947.680209657
XMax: 796924.9922221983
YMax: 5906201.2602777835
Spatial Reference: 102100
(3857)
LatestVCSWkid(0)
Pixel Size X: 0.017000000923871994
Pixel Size Y: 0.017000000923871994
Band Count: 4
Pixel Type: U8
RasterFunction Infos: {"rasterFunctionInfos": [{
"name": "None",
"description": "",
"help": ""
}]}
Mensuration Capabilities: Basic
Inspection Capabilities:
Has Histograms: true
Has Colormap: false
Has Multi Dimensions : false
Rendering Rule:
Min Scale: 0
Max Scale: 0
Copyright Text: sdplus sa
Service Data Type: esriImageServiceDataTypeGeneric
Min Values: 0, 0, 0, 0
Max Values: 255, 255, 255, 255
Mean Values: 186.88114366836027, 193.61470061417836, 176.37920425900478, 150.9192377313906
Standard Deviation Values: 69.28770131054732, 61.74422236525573, 77.4896703679695, 125.33071972168591
Object ID Field:
Fields:
None
Default Mosaic Method: Center
Allowed Mosaic Methods:
SortField:
SortValue: null
Mosaic Operator: First
Default Compression Quality: 75
Default Resampling Method: Bilinear
Max Record Count: null
Max Image Height: 4100
Max Image Width: 15000
Max Download Image Count: null
Max Mosaic Image Count: null
Allow Raster Function: true
Allow Copy: true
Allow Analysis: true
Allow Compute TiePoints: false
Supports Statistics: false
Supports Advanced Queries: false
Use StandardizedQueries: true
Raster Type Infos:
Name: Raster Dataset
Description: Supports all ArcGIS Raster Datasets
Help:
Has Raster Attribute Table: false
Edit Fields Info: null
Ownership Based AccessControl For Rasters: null
Child Resources:
Info
Histograms
Statistics
Key Properties
Legend
Raster Function Infos
Supported Operations:
Export Image
Identify
Measure
Compute Histograms
Compute Statistics Histograms
Get Samples
Compute Class Statistics
Query Boundary
Compute Pixel Location
Compute Angles
Validate
Project