View In:
ArcGIS JavaScript
ArcGIS Online Map Viewer
ArcGIS Earth
Service Description: orthophoto de swiss topo clip
Name: tmr/orthophoto_swiss_clip
Description: orthophoto de swiss topo clip
Single Fused Map Cache: false
Extent:
XMin: 2561894.795122537
YMin: 1097116.6331564845
XMax: 2582855.395122537
YMax: 1109255.5331564844
Spatial Reference: 2056
(2056)
LatestVCSWkid(0)
Initial Extent:
XMin: 2561894.795122537
YMin: 1097116.6331564845
XMax: 2582855.395122537
YMax: 1109255.5331564844
Spatial Reference: 2056
(2056)
LatestVCSWkid(0)
Full Extent:
XMin: 2561894.795122537
YMin: 1097116.6331564845
XMax: 2582855.395122537
YMax: 1109255.5331564844
Spatial Reference: 2056
(2056)
LatestVCSWkid(0)
Pixel Size X: 0.10000000000000045
Pixel Size Y: 0.09999999999999923
Band Count: 3
Pixel Type: U8
RasterFunction Infos: {"rasterFunctionInfos": [{
"name": "None",
"description": "",
"help": ""
}]}
Mensuration Capabilities: Basic
Inspection Capabilities:
Has Histograms: true
Has Colormap: false
Has Multi Dimensions : false
Rendering Rule:
Min Scale: 0
Max Scale: 0
Copyright Text: swisstopo
Service Data Type: esriImageServiceDataTypeRGB
Min Values: 0, 0, 0
Max Values: 255, 255, 255
Mean Values: 98.38322357944368, 112.99014543857871, 93.43358120461738
Standard Deviation Values: 49.53125955359512, 46.767077931675836, 45.706805767520706
Object ID Field:
Fields:
None
Default Mosaic Method: Center
Allowed Mosaic Methods:
SortField:
SortValue: null
Mosaic Operator: First
Default Compression Quality: 75
Default Resampling Method: Bilinear
Max Record Count: null
Max Image Height: 4100
Max Image Width: 15000
Max Download Image Count: null
Max Mosaic Image Count: null
Allow Raster Function: true
Allow Copy: true
Allow Analysis: true
Allow Compute TiePoints: false
Supports Statistics: false
Supports Advanced Queries: false
Use StandardizedQueries: true
Raster Type Infos:
Name: Raster Dataset
Description: Supports all ArcGIS Raster Datasets
Help:
Has Raster Attribute Table: false
Edit Fields Info: null
Ownership Based AccessControl For Rasters: null
Child Resources:
Info
Histograms
Statistics
Key Properties
Legend
Raster Function Infos
Supported Operations:
Export Image
Identify
Measure
Compute Histograms
Compute Statistics Histograms
Get Samples
Compute Class Statistics
Query Boundary
Compute Pixel Location
Compute Angles
Validate
Project